BEGIN:VCALENDAR
VERSION:2.0
PRODID:-//hacksw/handcal//NONSGML v1.0//EN
BEGIN:VEVENT
DTSTAMP:20250208T100000Z
DTSTART:20250208T100000Z
DTEND:20250208T100000Z
LOCATION:Dorfhaus, Siebenbäumen, Deutschland
SUMMARY:Grünkohlessen | OV Siebenbäumen
END:VEVENT
END:VCALENDAR
